BEGIN:VCALENDAR
VERSION:2.0
PRODID:-//OmniMagnetCalendar//EN
BEGIN:VEVENT
DTSTAMP:20190625T195740Z
STATUS:CONFIRMED
UID:hcsacramento.clubs.harvard.edu562
DTSTART:20191123T170000Z
DTEND:
LOCATION:de Vere's Irish Pub, 1521 L St, Sacramento, CA, 95814, USA,
SUMMARY:136th Harvard-Yale Game Viewing Party - November 23rd
DESCRIPTION:Get together with fellow graduates to watch the Harvard Crimson battle the Yale Bulldogs! Let us know if you will be attending.
BEGIN:VALARM
TRIGGER:-PT15M
ACTION:DISPLAY
END:VALARM
TRANSP:OPAQUE
END:VEVENT
END:VCALENDAR
